BEGIN:VCALENDAR
VERSION:2.0
PRODID:-//STPM SANTA URSULA - ECPv6.15.20//NONSGML v1.0//EN
CALSCALE:GREGORIAN
METHOD:PUBLISH
X-ORIGINAL-URL:https://stpmsantaursula.ac.id
X-WR-CALDESC:Events for STPM SANTA URSULA
REFRESH-INTERVAL;VALUE=DURATION:PT1H
X-Robots-Tag:noindex
X-PUBLISHED-TTL:PT1H
BEGIN:VTIMEZONE
TZID:Asia/Kuala_Lumpur
BEGIN:STANDARD
TZOFFSETFROM:+0800
TZOFFSETTO:+0800
TZNAME:+08
DTSTART:20230101T000000
END:STANDARD
END:VTIMEZONE
BEGIN:VEVENT
DTSTART;TZID=Asia/Kuala_Lumpur:20241218T080000
DTEND;TZID=Asia/Kuala_Lumpur:20241218T170000
DTSTAMP:20260420T221140
CREATED:20250131T234546Z
LAST-MODIFIED:20241217T234645Z
UID:11227-1734508800-1734541200@stpmsantaursula.ac.id
SUMMARY:ORMAWA STPM CUP KE-24
DESCRIPTION:
URL:https://stpmsantaursula.ac.id/event/ormawa-stpm-cup-ke-24/
CATEGORIES:Mahasiswa
END:VEVENT
BEGIN:VEVENT
DTSTART;TZID=Asia/Kuala_Lumpur:20240513T080000
DTEND;TZID=Asia/Kuala_Lumpur:20240518T150000
DTSTAMP:20260420T221140
CREATED:20240313T055108Z
LAST-MODIFIED:20240313T055558Z
UID:10436-1715587200-1716044400@stpmsantaursula.ac.id
SUMMARY:Abdimas
DESCRIPTION:
URL:https://stpmsantaursula.ac.id/event/abdimas/
CATEGORIES:Mahasiswa
END:VEVENT
BEGIN:VEVENT
DTSTART;TZID=Asia/Kuala_Lumpur:20240408T073000
DTEND;TZID=Asia/Kuala_Lumpur:20240413T190000
DTSTAMP:20260420T221140
CREATED:20240313T055812Z
LAST-MODIFIED:20240313T055919Z
UID:10439-1712561400-1713034800@stpmsantaursula.ac.id
SUMMARY:Ujian Tengah Semester
DESCRIPTION:
URL:https://stpmsantaursula.ac.id/event/ujian-tengah-semester/
CATEGORIES:Mahasiswa
END:VEVENT
BEGIN:VEVENT
DTSTART;TZID=Asia/Kuala_Lumpur:20240406T090000
DTEND;TZID=Asia/Kuala_Lumpur:20240406T130000
DTSTAMP:20260420T221140
CREATED:20240313T054129Z
LAST-MODIFIED:20240313T054903Z
UID:10430-1712394000-1712408400@stpmsantaursula.ac.id
SUMMARY:Evaluasi Pembelajaran Tengah Semester
DESCRIPTION:
URL:https://stpmsantaursula.ac.id/event/evaluasi-pembelajaran-tengah-semester/
CATEGORIES:Mahasiswa
END:VEVENT
BEGIN:VEVENT
DTSTART;TZID=Asia/Kuala_Lumpur:20240316T090000
DTEND;TZID=Asia/Kuala_Lumpur:20240316T130000
DTSTAMP:20260420T221140
CREATED:20240315T015550Z
LAST-MODIFIED:20240315T015840Z
UID:10473-1710579600-1710594000@stpmsantaursula.ac.id
SUMMARY:Lomba Puisi dan Stand Up Comedy
DESCRIPTION:
URL:https://stpmsantaursula.ac.id/event/lomba-puisi-dan-stand-up-comedy/
CATEGORIES:Dies Natalis
ATTACH;FMTTYPE=image/jpeg:https://stpmsantaursula.ac.id/wp-content/uploads/2024/03/dies-natalis.jpeg
END:VEVENT
BEGIN:VEVENT
DTSTART;TZID=Asia/Kuala_Lumpur:20240302T080000
DTEND;TZID=Asia/Kuala_Lumpur:20240302T130000
DTSTAMP:20260420T221140
CREATED:20240223T021236Z
LAST-MODIFIED:20240223T021236Z
UID:9225-1709366400-1709384400@stpmsantaursula.ac.id
SUMMARY:Grand Final Lomba Debat
DESCRIPTION:
URL:https://stpmsantaursula.ac.id/event/grand-final-lomba-debat/
CATEGORIES:Lembaga
END:VEVENT
BEGIN:VEVENT
DTSTART;TZID=Asia/Kuala_Lumpur:20240224T090000
DTEND;TZID=Asia/Kuala_Lumpur:20240224T130000
DTSTAMP:20260420T221140
CREATED:20240223T020114Z
LAST-MODIFIED:20240223T021058Z
UID:9221-1708765200-1708779600@stpmsantaursula.ac.id
SUMMARY:Lomba Paduan Suara
DESCRIPTION:
URL:https://stpmsantaursula.ac.id/event/pembukaan-dies-natalis-stpm-ke-52/
CATEGORIES:Lembaga
END:VEVENT
END:VCALENDAR